BEGIN:VCALENDAR
VERSION:2.0
PRODID:-//Republic, Washington - ECPv6.15.15//NONSGML v1.0//EN
CALSCALE:GREGORIAN
METHOD:PUBLISH
X-ORIGINAL-URL:https://www.republicwa.org
X-WR-CALDESC:Events for Republic, Washington
REFRESH-INTERVAL;VALUE=DURATION:PT1H
X-Robots-Tag:noindex
X-PUBLISHED-TTL:PT1H
BEGIN:VTIMEZONE
TZID:UTC
BEGIN:STANDARD
TZOFFSETFROM:+0000
TZOFFSETTO:+0000
TZNAME:UTC
DTSTART:20150101T000000
END:STANDARD
END:VTIMEZONE
BEGIN:VEVENT
DTSTART;TZID=UTC:20160105T180000
DTEND;TZID=UTC:20160105T210000
DTSTAMP:20260421T135727
CREATED:20151217T173948Z
LAST-MODIFIED:20151217T173948Z
UID:534-1452016800-1452027600@www.republicwa.org
SUMMARY:Marine Bar Call
DESCRIPTION:Join fellow Marines (active and veterans) for an evening of camaraderie. Brewery open to Marines and their companions only.
URL:https://www.republicwa.org/event/marine-bar-call/
LOCATION:Republic Brewing Company\, 26 N Clark Avenue\, Republic\, WA\, 99166\, United States
ATTACH;FMTTYPE=image/png:https://www.republicwa.org/wp-content/uploads/2015/12/marine.png
END:VEVENT
BEGIN:VEVENT
DTSTART;TZID=UTC:20160109T190000
DTEND;TZID=UTC:20160109T220000
DTSTAMP:20260421T135727
CREATED:20151217T174140Z
LAST-MODIFIED:20151217T174140Z
UID:536-1452366000-1452376800@www.republicwa.org
SUMMARY:Live Music with Gregory Rawlins
DESCRIPTION:Pass-the-hat cover charge \nRawlins’ influences draw from a mash-up of classic rock\, early country music\, and the Seattle grunge wave of the early 1990s. \nVisit their website
URL:https://www.republicwa.org/event/live-music-with-gregory-rawlins/
LOCATION:Republic Brewing Company\, 26 N Clark Avenue\, Republic\, WA\, 99166\, United States
ATTACH;FMTTYPE=image/jpeg:https://www.republicwa.org/wp-content/uploads/2015/12/gregraw.jpg
END:VEVENT
BEGIN:VEVENT
DTSTART;TZID=UTC:20160109T220000
DTEND;TZID=UTC:20160109T220000
DTSTAMP:20260421T135727
CREATED:20151217T181038Z
LAST-MODIFIED:20151222T171335Z
UID:552-1452376800-1452376800@www.republicwa.org
SUMMARY:Ferry County Rail Trail Ski Day
DESCRIPTION:Ferry County Rail Trail presents its sixth annual Ski Day! Meet at the Kiwanis Road trailhead at the north end of Curlew Lake (map below). Professional ski instructors and FREE ski instruction will be on hand\, as well as free gear to use: skis\, boots and poles.\nWin a Timex Expedition watch for the best retro ski costume!
URL:https://www.republicwa.org/event/ferry-county-rail-trail-ski-day/
LOCATION:Kiwanis Road Trailhead\, Kiwanis Road\, Republic\, WA\, 99166\, United States
ATTACH;FMTTYPE=image/jpeg:https://www.republicwa.org/wp-content/uploads/2015/12/railtrail-1.jpg
ORGANIZER;CN="Ferry County Rail Trail":MAILTO:info@ferrycountyrailtrail.com
END:VEVENT
BEGIN:VEVENT
DTSTART;TZID=UTC:20160110T180000
DTEND;TZID=UTC:20160110T210000
DTSTAMP:20260421T135727
CREATED:20151217T174421Z
LAST-MODIFIED:20151217T174421Z
UID:538-1452448800-1452459600@www.republicwa.org
SUMMARY:Paints and Pints
DESCRIPTION:Monthly paint nights with local instructor\, Linda Thiele. Each month will be a new painting. No experience needed! $30 registration fee includes all supplies. There will be two classes held in December\, both of the same painting (pictured at left). \nClass limited to 20\, register at the brewery. \nA quick reminder: In order to ensure registration\, you must pre-pay for the class at the brewery. If you’ve replied that you plan to attend via Facebook\, but have not paid\, registration is not official. Stop by anytime and pre-pay to ensure your spot.
URL:https://www.republicwa.org/event/paints-and-pints-4/
LOCATION:Republic Brewing Company\, 26 N Clark Avenue\, Republic\, WA\, 99166\, United States
ATTACH;FMTTYPE=image/jpeg:https://www.republicwa.org/wp-content/uploads/2015/12/janpaints.jpg
END:VEVENT
BEGIN:VEVENT
DTSTART;TZID=UTC:20160114T180000
DTEND;TZID=UTC:20160114T210000
DTSTAMP:20260421T135727
CREATED:20151217T174627Z
LAST-MODIFIED:20151217T174627Z
UID:541-1452794400-1452805200@www.republicwa.org
SUMMARY:Second Thursday Trivia
DESCRIPTION:No need to be a genius\, just be willing to have fun. Bring a team of three or join in individually. Every second Thursday October to April. \nSounds geeky\, but’s it’s geeky and fun!
URL:https://www.republicwa.org/event/second-thursday-trivia-3/
LOCATION:Republic Brewing Company\, 26 N Clark Avenue\, Republic\, WA\, 99166\, United States
ATTACH;FMTTYPE=image/jpeg:https://www.republicwa.org/wp-content/uploads/2015/09/trivia2.jpg
END:VEVENT
BEGIN:VEVENT
DTSTART;VALUE=DATE:20160115
DTEND;VALUE=DATE:20160117
DTSTAMP:20260421T135727
CREATED:20150707T164803Z
LAST-MODIFIED:20151208T172919Z
UID:286-1452816000-1452988799@www.republicwa.org
SUMMARY:Winterfest
DESCRIPTION:Join us for a fun lineup of events in January. Browse our shops\, enjoy the lights\, and view or participate in activities throughout the day. \nThere will be a bonfire\, torchlight parade and lots of fun for the whole family. Stay tuned for more details! \nPhoto courtesy of Veronica Cromwell\, taken just outside of the town of Republic.
URL:https://www.republicwa.org/event/winterfest/
LOCATION:Unnamed Venue\, Republic\, WA\, 99166\, United States
ATTACH;FMTTYPE=image/jpeg:https://www.republicwa.org/wp-content/uploads/2015/07/Veronica-Cromwell-Outside-of-Republic.jpg
END:VEVENT
BEGIN:VEVENT
DTSTART;TZID=UTC:20160119T060000
DTEND;TZID=UTC:20160119T210000
DTSTAMP:20260421T135727
CREATED:20151217T174713Z
LAST-MODIFIED:20151217T174713Z
UID:542-1453183200-1453237200@www.republicwa.org
SUMMARY:Paints and Pints
DESCRIPTION:Monthly paint nights with local instructor\, Linda Thiele. Each month will be a new painting. No experience needed! $30 registration fee includes all supplies. There will be two classes held in December\, both of the same painting (pictured at left). \nClass limited to 20\, register at the brewery. \nA quick reminder: In order to ensure registration\, you must pre-pay for the class at the brewery. If you’ve replied that you plan to attend via Facebook\, but have not paid\, registration is not official. Stop by anytime and pre-pay to ensure your spot.
URL:https://www.republicwa.org/event/paints-and-pints-6/
LOCATION:Republic Brewing Company\, 26 N Clark Avenue\, Republic\, WA\, 99166\, United States
ATTACH;FMTTYPE=image/jpeg:https://www.republicwa.org/wp-content/uploads/2015/12/janpaints.jpg
END:VEVENT
BEGIN:VEVENT
DTSTART;TZID=UTC:20160120T180000
DTEND;TZID=UTC:20160120T200000
DTSTAMP:20260421T135727
CREATED:20151217T181623Z
LAST-MODIFIED:20151217T181746Z
UID:557-1453312800-1453320000@www.republicwa.org
SUMMARY:Old School Gardening with Jim McGinty
DESCRIPTION:How did your great-great grandparents grow food for their families? No fantasies of Victorian rose gardens here; learn about 19th century American gardening techniques\, tools\, and garden crops (Cardoon\, anyone?).\n5581 Jan. 20 W 6-8 pm $14\nAll classes are held at SCC Republic Center\, 63 N. Keller St #B. Call 775-3675 or (800) 276-8040 ext. 6405 for more information on any of these classes.
URL:https://www.republicwa.org/event/old-school-gardening-with-jim-mcginty/
LOCATION:SCC Republic Center\, 63 N Keller St.\, #B\, Republic\, WA\, 99166\, United States
ATTACH;FMTTYPE=image/jpeg:https://www.republicwa.org/wp-content/uploads/2015/12/axstj-camomilleimg_7557-stj3-1013-707.jpg
END:VEVENT
BEGIN:VEVENT
DTSTART;TZID=UTC:20160121T180000
DTEND;TZID=UTC:20160121T200000
DTSTAMP:20260421T135727
CREATED:20151222T171755Z
LAST-MODIFIED:20151222T171755Z
UID:567-1453399200-1453406400@www.republicwa.org
SUMMARY:January Wine Tasting - An Italian New Year
DESCRIPTION:January Wine Tasting: An Italian New Year \nPrice: $14/person \nDescription: Buongiorno! Try something new in the New Year and join us for the first in a series of wine tastings in 2016. This month\, we’ll be exploring the Italian countryside with 3 Italian white wines and 3 Italian red wines. Light snacks will be served to cleanse the palate. \nLimit: 10 people per tasting. Sign up at the brewery.
URL:https://www.republicwa.org/event/january-wine-tasting-an-italian-new-year/
LOCATION:Republic Brewing Company\, 26 N Clark Avenue\, Republic\, WA\, 99166\, United States
ATTACH;FMTTYPE=image/jpeg:https://www.republicwa.org/wp-content/uploads/2015/12/winetasting.jpg
END:VEVENT
BEGIN:VEVENT
DTSTART;TZID=UTC:20160123T070000
DTEND;TZID=UTC:20160123T220000
DTSTAMP:20260421T135727
CREATED:20151217T174844Z
LAST-MODIFIED:20151217T174844Z
UID:543-1453532400-1453586400@www.republicwa.org
SUMMARY:Live Music with Johnny and the Moles
DESCRIPTION:Pass-the-hat cover charge \nThis tuba-led quintet is upbeat\, jazzy and a little funky. \nVisit their website
URL:https://www.republicwa.org/event/live-music-with-johnny-and-the-moles/
LOCATION:Republic Brewing Company\, 26 N Clark Avenue\, Republic\, WA\, 99166\, United States
ATTACH;FMTTYPE=image/png:https://www.republicwa.org/wp-content/uploads/2015/12/moles.png
END:VEVENT
BEGIN:VEVENT
DTSTART;TZID=UTC:20160124T120000
DTEND;TZID=UTC:20160124T190000
DTSTAMP:20260421T135727
CREATED:20151217T175126Z
LAST-MODIFIED:20151217T175126Z
UID:545-1453636800-1453662000@www.republicwa.org
SUMMARY:Cheers to Charity at the Republic Brewing Co.
DESCRIPTION:January’s Charitable Cause: Forget Me Not Animal Shelter \nYou buy the beer and we’ll donate the money! \nRBC is hosting series of events. Each winter month we’ll be open one Sunday\, and on that Sunday all sales will be donated to a charitable cause of our choosing. For every dollar you spend on beverages\, we will donate one dollar. Tip jars will also go to the cause\, so you can donate as much as you like. And\, because we love it here\, we’ll spend every dollar locally. \nFerry County’s local no-kill animal shelter not only houses pets in need\, but also helps us find lost pets and cares for elderly animals that other shelters reject. All without any government funding
URL:https://www.republicwa.org/event/cheers-to-charity-at-the-republic-brewing-co/
LOCATION:Republic Brewing Company\, 26 N Clark Avenue\, Republic\, WA\, 99166\, United States
ATTACH;FMTTYPE=image/jpeg:https://www.republicwa.org/wp-content/uploads/2015/12/cheersjan.jpg
END:VEVENT
BEGIN:VEVENT
DTSTART;TZID=UTC:20160125T180000
DTEND;TZID=UTC:20160125T200000
DTSTAMP:20260421T135727
CREATED:20151217T182222Z
LAST-MODIFIED:20151217T182222Z
UID:560-1453744800-1453752000@www.republicwa.org
SUMMARY:Basic Sourdough with Don Burge
DESCRIPTION:Curious about the history and production of sourdough? Learn the basics of preparing and baking with sourdough in this fun and delicious class! Each student will receive a starter kit containing sourdough starter\, a mixing spoon and a paper towel for use in class and at home. You will feed your starter then observe as Don makes and bakes sourdough pancakes and waffles. This class is the prerequisite for the Sourdough English Muffins and Cinnamon Rolls\, Bagels and Bread classes.\n5553 Jan. 25 M 6-8 pm $19\nAll classes are held at SCC Republic Center\, 63 N. Keller St #B. Call 775-3675 or (800) 276-8040 ext. 6405 for more information on any of these classes.
URL:https://www.republicwa.org/event/basic-sourdough-with-don-burge/
LOCATION:SCC Republic Center\, 63 N Keller St.\, #B\, Republic\, WA\, 99166\, United States
ATTACH;FMTTYPE=image/jpeg:https://www.republicwa.org/wp-content/uploads/2015/12/bread.jpg
END:VEVENT
BEGIN:VEVENT
DTSTART;TZID=UTC:20160126T180000
DTEND;TZID=UTC:20160126T210000
DTSTAMP:20260421T135727
CREATED:20151217T175216Z
LAST-MODIFIED:20151217T175216Z
UID:547-1453831200-1453842000@www.republicwa.org
SUMMARY:Paints and Pints
DESCRIPTION:Monthly paint nights with local instructor\, Linda Thiele. Each month will be a new painting. No experience needed! $30 registration fee includes all supplies. There will be two classes held in December\, both of the same painting (pictured at left). \nClass limited to 20\, register at the brewery. \nA quick reminder: In order to ensure registration\, you must pre-pay for the class at the brewery. If you’ve replied that you plan to attend via Facebook\, but have not paid\, registration is not official. Stop by anytime and pre-pay to ensure your spot.
URL:https://www.republicwa.org/event/paints-and-pints-7/
LOCATION:Republic Brewing Company\, 26 N Clark Avenue\, Republic\, WA\, 99166\, United States
ATTACH;FMTTYPE=image/jpeg:https://www.republicwa.org/wp-content/uploads/2015/12/janpaints.jpg
END:VEVENT
BEGIN:VEVENT
DTSTART;TZID=UTC:20160127T180000
DTEND;TZID=UTC:20160127T200000
DTSTAMP:20260421T135727
CREATED:20151217T182506Z
LAST-MODIFIED:20151217T182506Z
UID:562-1453917600-1453924800@www.republicwa.org
SUMMARY:Seasonal Watercolors with Jeff Tetrick
DESCRIPTION:Capture your favorite seasonal memories in watercolor. Supplies are included in the cost.\n5314 Jan. 27-Feb. 3 W 6-8 pm $40 \nAll classes are held at SCC Republic Center\, 63 N. Keller St #B. Call 775-3675 or (800) 276-8040 ext. 6405 for more information on any of these classes.
URL:https://www.republicwa.org/event/seasonal-watercolors-with-jeff-tetrick/
LOCATION:SCC Republic Center\, 63 N Keller St.\, #B\, Republic\, WA\, 99166\, United States
ATTACH;FMTTYPE=image/jpeg:https://www.republicwa.org/wp-content/uploads/2015/12/watercolor.jpg
END:VEVENT
BEGIN:VEVENT
DTSTART;TZID=UTC:20160129T190000
DTEND;TZID=UTC:20160129T220000
DTSTAMP:20260421T135727
CREATED:20151217T175337Z
LAST-MODIFIED:20151217T175337Z
UID:548-1454094000-1454104800@www.republicwa.org
SUMMARY:Live Music with the Lowest Pair
DESCRIPTION:Pass-the-hat cover charge \nThe Lowest Pair is a quirky\, old-time roots influenced duet\, featuring the high lonesome harmonies of banjo pickin’ songsters Kendl Winter and Palmer T. Lee. They perform both traditional and original music\, often nestling-in somewhere between. With their city folk front and back porch sentiment\, this new\, sweet\, and powerful duo are turning heads across the country. \nVisit their website
URL:https://www.republicwa.org/event/live-music-with-the-lowest-pair/
LOCATION:Republic Brewing Company\, 26 N Clark Avenue\, Republic\, WA\, 99166\, United States
ATTACH;FMTTYPE=image/jpeg:https://www.republicwa.org/wp-content/uploads/2015/12/lowestpair.jpg
END:VEVENT
END:VCALENDAR