BEGIN:VCALENDAR
VERSION:2.0
PRODID:-//Republic, Washington - ECPv6.15.15//NONSGML v1.0//EN
CALSCALE:GREGORIAN
METHOD:PUBLISH
X-WR-CALNAME:Republic, Washington
X-ORIGINAL-URL:https://www.republicwa.org
X-WR-CALDESC:Events for Republic, Washington
REFRESH-INTERVAL;VALUE=DURATION:PT1H
X-Robots-Tag:noindex
X-PUBLISHED-TTL:PT1H
BEGIN:VTIMEZONE
TZID:UTC
BEGIN:STANDARD
TZOFFSETFROM:+0000
TZOFFSETTO:+0000
TZNAME:UTC
DTSTART:20140101T000000
END:STANDARD
END:VTIMEZONE
BEGIN:VEVENT
DTSTART;TZID=UTC:20151102T180000
DTEND;TZID=UTC:20151102T210000
DTSTAMP:20260424T055720
CREATED:20151023T173337Z
LAST-MODIFIED:20151023T173529Z
UID:487-1446487200-1446498000@www.republicwa.org
SUMMARY:Paints and Pints at the Brewery
DESCRIPTION:Monthly paint nights with local instructor\, Linda Thiele. Each month will be a new painting. No experience needed! $30 registration fee includes all supplies. There will be two classes held in November\, both of the same painting. \nClass limited to 20\, register at the brewery. \nA quick reminder: In order to ensure registration\, you must pre-pay for the class at the brewery. If you’ve replied that you plan to attend via Facebook\, but have not paid\, registration is not official. Stop by anytime and pre-pay to ensure your spot.
URL:https://www.republicwa.org/event/paints-and-pints-at-the-brewery/
LOCATION:Republic Brewing Company\, 26 N Clark Avenue\, Republic\, WA\, 99166\, United States
ATTACH;FMTTYPE=image/jpeg:https://www.republicwa.org/wp-content/uploads/2015/07/paintspints.jpg
END:VEVENT
BEGIN:VEVENT
DTSTART;TZID=UTC:20151106T090000
DTEND;TZID=UTC:20151107T160000
DTSTAMP:20260424T055720
CREATED:20151023T172424Z
LAST-MODIFIED:20151023T172424Z
UID:480-1446800400-1446912000@www.republicwa.org
SUMMARY:Republic Library Semi-annual Book Sale
DESCRIPTION:Stock up now\, for great reading all winter long\, at the Friends of the Republic Library Semi-annual Book Sale. The fundraiser supports the summer reading program and other library programming. The sale includes gently used books\, audios\, and videos. \nThe two-day event is scheduled for Friday\, Nov. 6\, and Saturday\, Nov. 7\, 2015\, from 9:00 a.m. to 4:00 p.m. The sale is located in the basement of the Republic Public Library\, 794 S Clark Avenue\, Republic\, WA.  \nFor more info\, call 509-775-3328.
URL:https://www.republicwa.org/event/republic-library-semi-annual-book-sale/
LOCATION:Republic Public Library\, 794 S Clark Avenue\, Republic\, WA\, 99166\, United States
ATTACH;FMTTYPE=image/jpeg:https://www.republicwa.org/wp-content/uploads/2015/10/library.jpg
END:VEVENT
BEGIN:VEVENT
DTSTART;TZID=UTC:20151107T090000
DTEND;TZID=UTC:20151107T140000
DTSTAMP:20260424T055720
CREATED:20151023T172826Z
LAST-MODIFIED:20151023T172826Z
UID:483-1446886800-1446904800@www.republicwa.org
SUMMARY:Curlew Holiday Bazaar
DESCRIPTION:First Saturday in November. Get in the holiday mood and attend the Curlew Christmas Bazaar in Curlew\, WA.  Located in the Curlew Civic Hall\, the bazaar will feature the work of talented\, area arts and crafters.  There will be food available and raffles.
URL:https://www.republicwa.org/event/curlew-holiday-bazaar/
LOCATION:Curlew Civic Hall\, 4 Washburn St.\, Curlew\, WA\, 99118\, United States
ATTACH;FMTTYPE=image/jpeg:https://www.republicwa.org/wp-content/uploads/2015/10/ooO0fP4.jpg
END:VEVENT
BEGIN:VEVENT
DTSTART;TZID=UTC:20151112T180000
DTEND;TZID=UTC:20151112T210000
DTSTAMP:20260424T055720
CREATED:20151023T173656Z
LAST-MODIFIED:20151023T173656Z
UID:489-1447351200-1447362000@www.republicwa.org
SUMMARY:Second Thursday Trivia
DESCRIPTION:No need to be a genius\, just be willing to have fun. Bring a team of three or join in individually. Every second Thursday October to April. \nSounds geeky\, but’s it’s geeky and fun!
URL:https://www.republicwa.org/event/second-thursday-trivia/
LOCATION:Republic Brewing Company\, 26 N Clark Avenue\, Republic\, WA\, 99166\, United States
ATTACH;FMTTYPE=image/jpeg:https://www.republicwa.org/wp-content/uploads/2015/09/trivia2.jpg
END:VEVENT
BEGIN:VEVENT
DTSTART;TZID=UTC:20151114T190000
DTEND;TZID=UTC:20151114T220000
DTSTAMP:20260424T055720
CREATED:20151023T173859Z
LAST-MODIFIED:20151023T173859Z
UID:490-1447527600-1447538400@www.republicwa.org
SUMMARY:Live Music with Coyote Willow
DESCRIPTION:Coyote Willow’s exciting combination of cello\, guitar and rich vocals combine to take you on a musical journey that will have you laughing\, crying\, dancing and celebrating the rhythms of life. Pass the hat cover charge. \nVisit their website
URL:https://www.republicwa.org/event/live-music-with-coyote-willow/
LOCATION:Republic Brewing Company\, 26 N Clark Avenue\, Republic\, WA\, 99166\, United States
ATTACH;FMTTYPE=image/jpeg:https://www.republicwa.org/wp-content/uploads/2015/10/coyote.jpg
END:VEVENT
BEGIN:VEVENT
DTSTART;TZID=UTC:20151121T130000
DTEND;TZID=UTC:20151121T170000
DTSTAMP:20260424T055720
CREATED:20151119T184825Z
LAST-MODIFIED:20151119T184825Z
UID:503-1448110800-1448125200@www.republicwa.org
SUMMARY:Thanksgiving Centerpiece Workshop
DESCRIPTION:Saturday\, November 21\, 2015 at 1 p.m.\nCost is $30\, which includes cost of flowers and materials. Learn how to make a centerpiece for the Thanksgiving Dinner table. Instructor\, Christine Johnson will have festive flowers and candles on hand. Please feel free to bring anything you may want to embellish the centerpieces with. Sign up at the brewery.
URL:https://www.republicwa.org/event/thanksgiving-centerpiece-workshop/
LOCATION:Republic Brewing Company\, 26 N Clark Avenue\, Republic\, WA\, 99166\, United States
ATTACH;FMTTYPE=image/jpeg:https://www.republicwa.org/wp-content/uploads/2015/11/thankscenter.jpg
END:VEVENT
BEGIN:VEVENT
DTSTART;TZID=UTC:20151121T150000
DTEND;TZID=UTC:20151121T180000
DTSTAMP:20260424T055720
CREATED:20151023T172022Z
LAST-MODIFIED:20151023T172022Z
UID:477-1448118000-1448128800@www.republicwa.org
SUMMARY:Booster Club Turkey Bingo
DESCRIPTION:$15 per card \n3 p.m. at the Republic Grade School on November 21st
URL:https://www.republicwa.org/event/booster-club-turkey-bingo/
LOCATION:Republic Grade School\, 30306 WA-20\, Republic\, WA\, 99166\, United States
ATTACH;FMTTYPE=image/jpeg:https://www.republicwa.org/wp-content/uploads/2015/10/wildturkey.jpg
END:VEVENT
BEGIN:VEVENT
DTSTART;TZID=UTC:20151124T180000
DTEND;TZID=UTC:20151124T210000
DTSTAMP:20260424T055720
CREATED:20151023T173504Z
LAST-MODIFIED:20151023T173504Z
UID:488-1448388000-1448398800@www.republicwa.org
SUMMARY:Paints and Pints at the Brewery
DESCRIPTION:Monthly paint nights with local instructor\, Linda Thiele. Each month will be a new painting. No experience needed! $30 registration fee includes all supplies. There will be two classes held in November\, both of the same painting. \nClass limited to 20\, register at the brewery. \nA quick reminder: In order to ensure registration\, you must pre-pay for the class at the brewery. If you’ve replied that you plan to attend via Facebook\, but have not paid\, registration is not official. Stop by anytime and pre-pay to ensure your spot.
URL:https://www.republicwa.org/event/paints-and-pints-at-the-brewery-2/
LOCATION:Republic Brewing Company\, 26 N Clark Avenue\, Republic\, WA\, 99166\, United States
ATTACH;FMTTYPE=image/jpeg:https://www.republicwa.org/wp-content/uploads/2015/07/paintspints.jpg
END:VEVENT
BEGIN:VEVENT
DTSTART;TZID=UTC:20151128T160000
DTEND;TZID=UTC:20151128T170000
DTSTAMP:20260424T055720
CREATED:20151119T190135Z
LAST-MODIFIED:20151119T190201Z
UID:512-1448726400-1448730000@www.republicwa.org
SUMMARY:Christmas Tree Lighting in the Park
DESCRIPTION:Join us for the Christmas Tree Lighting at Patterson Park in Republic!\nSaturday\, November 28\, 2015 at 4:00 p.m.
URL:https://www.republicwa.org/event/512/
LOCATION:Republic City Park\, 6th and N Kean St.\, Republic\, WA\, 99166\, United States
ATTACH;FMTTYPE=image/jpeg:https://www.republicwa.org/wp-content/uploads/2015/11/christmas-tree.jpg
END:VEVENT
BEGIN:VEVENT
DTSTART;TZID=UTC:20151128T180000
DTEND;TZID=UTC:20151128T210000
DTSTAMP:20260424T055720
CREATED:20151119T185031Z
LAST-MODIFIED:20151119T185031Z
UID:505-1448733600-1448744400@www.republicwa.org
SUMMARY:5th Annual "Thanksgivia" Trivia Showdown
DESCRIPTION:Saturday\, November 28 at 6 p.m. \nThat’s right\, it’s time to gather friends and loved ones together\, shake off the tryptophan and smash your trivial opponents in a pub-style trivia showdown. Teams can be up to 4 players. Registration at 5:30\, play begins at 6:00. No fee to play. Prizes for 1st\, 2nd and 3rd place.
URL:https://www.republicwa.org/event/5th-annual-thanksgivia-trivia-showdown/
LOCATION:Republic Brewing Company\, 26 N Clark Avenue\, Republic\, WA\, 99166\, United States
ATTACH;FMTTYPE=image/jpeg:https://www.republicwa.org/wp-content/uploads/2015/11/10702016_726514484069357_1938430702653005097_n.jpg
END:VEVENT
END:VCALENDAR