BEGIN:VCALENDAR
VERSION:2.0
PRODID:-//Republic, Washington - ECPv6.15.15//NONSGML v1.0//EN
CALSCALE:GREGORIAN
METHOD:PUBLISH
X-ORIGINAL-URL:https://www.republicwa.org
X-WR-CALDESC:Events for Republic, Washington
REFRESH-INTERVAL;VALUE=DURATION:PT1H
X-Robots-Tag:noindex
X-PUBLISHED-TTL:PT1H
BEGIN:VTIMEZONE
TZID:UTC
BEGIN:STANDARD
TZOFFSETFROM:+0000
TZOFFSETTO:+0000
TZNAME:UTC
DTSTART:20150101T000000
END:STANDARD
END:VTIMEZONE
BEGIN:VEVENT
DTSTART;TZID=UTC:20160430T120000
DTEND;TZID=UTC:20160430T170000
DTSTAMP:20260425T150224
CREATED:20160304T212112Z
LAST-MODIFIED:20160304T212112Z
UID:637-1462017600-1462035600@www.republicwa.org
SUMMARY:Eagle Track Raceway Season Opener
DESCRIPTION:Gates open at Noon\, Heats at 1PM\, Racing about 2PM\nGeneral Admission $10\, Children under 13 FREE with parent
URL:https://www.republicwa.org/event/eagle-track-raceway-season-opener/
LOCATION:Eagle Track Raceway\, Pendry Road\, Republic\, WA\, 99166\, United States
ATTACH;FMTTYPE=image/jpeg:https://www.republicwa.org/wp-content/uploads/2015/07/eagle-track.jpg
END:VEVENT
END:VCALENDAR