BEGIN:VCALENDAR
VERSION:2.0
PRODID:-//Republic, Washington - ECPv6.15.15//NONSGML v1.0//EN
CALSCALE:GREGORIAN
METHOD:PUBLISH
X-ORIGINAL-URL:https://www.republicwa.org
X-WR-CALDESC:Events for Republic, Washington
REFRESH-INTERVAL;VALUE=DURATION:PT1H
X-Robots-Tag:noindex
X-PUBLISHED-TTL:PT1H
BEGIN:VTIMEZONE
TZID:UTC
BEGIN:STANDARD
TZOFFSETFROM:+0000
TZOFFSETTO:+0000
TZNAME:UTC
DTSTART:20150101T000000
END:STANDARD
END:VTIMEZONE
BEGIN:VEVENT
DTSTART;TZID=UTC:20160320T190000
DTEND;TZID=UTC:20160320T220000
DTSTAMP:20260425T231149
CREATED:20160309T195539Z
LAST-MODIFIED:20160309T195539Z
UID:658-1458500400-1458511200@www.republicwa.org
SUMMARY:Ticketed Concert with Jumaane Smith and Skerik's Bandalabra
DESCRIPTION:Jumaane (JEW-MAH-KNEE) Smith\, trumpeter and vocalist\, has already done what most musicians spend their lives dreaming about. He’s traveled the world\, played stages in historic clubs\, in massive stadiums and at cultural landmarks\, recorded a solo album\, appeared on national television and performed for two sitting U.S. presidents. \nHis collaborations range from pop idols to jazz legends\, and the list reads like a lineup for the best New Orleans Jazz Fest ever. He’s worked with Stevie Wonder\, Quincy Jones\, Michael Buble’\, Jackie Evancho\, Alicia Keys\, The Jonas Brothers\, Wyclef Jean\, Justin Bieber\, Diddy\, Natalie Cole\, James Ingram\, Wynton Marsalis\, Ravi Coltrane\, Chris Botti and many more. \nJumaane will be doing a west coast/homecoming tour this spring in support of his debut album\, “I Only Have Eyes For You”\, which has sold over 10\,000 copies and charted a single at #10 on the Billboard Jazz Chart and #5 on iTunes jazz sales. \nHe will be touring with Skekirk’s Bandelabra\, a Seattle-based punk\, jazz quartet. \nVisit his website
URL:https://www.republicwa.org/event/ticketed-concert-with-jumaane-smith-and-skeriks-bandalabra/
LOCATION:Republic Brewing Company\, 26 N Clark Avenue\, Republic\, WA\, 99166\, United States
ATTACH;FMTTYPE=image/jpeg:https://www.republicwa.org/wp-content/uploads/2016/03/jumaane.jpg
END:VEVENT
END:VCALENDAR