BEGIN:VCALENDAR
VERSION:2.0
PRODID:-//Republic, Washington - ECPv6.15.15//NONSGML v1.0//EN
CALSCALE:GREGORIAN
METHOD:PUBLISH
X-WR-CALNAME:Republic, Washington
X-ORIGINAL-URL:https://www.republicwa.org
X-WR-CALDESC:Events for Republic, Washington
REFRESH-INTERVAL;VALUE=DURATION:PT1H
X-Robots-Tag:noindex
X-PUBLISHED-TTL:PT1H
BEGIN:VTIMEZONE
TZID:UTC
BEGIN:STANDARD
TZOFFSETFROM:+0000
TZOFFSETTO:+0000
TZNAME:UTC
DTSTART:20150101T000000
END:STANDARD
END:VTIMEZONE
BEGIN:VEVENT
DTSTART;TZID=UTC:20160127T180000
DTEND;TZID=UTC:20160127T200000
DTSTAMP:20260423T222046
CREATED:20151217T182506Z
LAST-MODIFIED:20151217T182506Z
UID:562-1453917600-1453924800@www.republicwa.org
SUMMARY:Seasonal Watercolors with Jeff Tetrick
DESCRIPTION:Capture your favorite seasonal memories in watercolor. Supplies are included in the cost.\n5314 Jan. 27-Feb. 3 W 6-8 pm $40 \nAll classes are held at SCC Republic Center\, 63 N. Keller St #B. Call 775-3675 or (800) 276-8040 ext. 6405 for more information on any of these classes.
URL:https://www.republicwa.org/event/seasonal-watercolors-with-jeff-tetrick/
LOCATION:SCC Republic Center\, 63 N Keller St.\, #B\, Republic\, WA\, 99166\, United States
ATTACH;FMTTYPE=image/jpeg:https://www.republicwa.org/wp-content/uploads/2015/12/watercolor.jpg
END:VEVENT
END:VCALENDAR