BEGIN:VCALENDAR
VERSION:2.0
PRODID:-//Republic, Washington - ECPv6.15.15//NONSGML v1.0//EN
CALSCALE:GREGORIAN
METHOD:PUBLISH
X-ORIGINAL-URL:https://www.republicwa.org
X-WR-CALDESC:Events for Republic, Washington
REFRESH-INTERVAL;VALUE=DURATION:PT1H
X-Robots-Tag:noindex
X-PUBLISHED-TTL:PT1H
BEGIN:VTIMEZONE
TZID:UTC
BEGIN:STANDARD
TZOFFSETFROM:+0000
TZOFFSETTO:+0000
TZNAME:UTC
DTSTART:20150101T000000
END:STANDARD
END:VTIMEZONE
BEGIN:VEVENT
DTSTART;TZID=UTC:20160123T070000
DTEND;TZID=UTC:20160123T220000
DTSTAMP:20260423T222016
CREATED:20151217T174844Z
LAST-MODIFIED:20151217T174844Z
UID:543-1453532400-1453586400@www.republicwa.org
SUMMARY:Live Music with Johnny and the Moles
DESCRIPTION:Pass-the-hat cover charge \nThis tuba-led quintet is upbeat\, jazzy and a little funky. \nVisit their website
URL:https://www.republicwa.org/event/live-music-with-johnny-and-the-moles/
LOCATION:Republic Brewing Company\, 26 N Clark Avenue\, Republic\, WA\, 99166\, United States
ATTACH;FMTTYPE=image/png:https://www.republicwa.org/wp-content/uploads/2015/12/moles.png
END:VEVENT
END:VCALENDAR