BEGIN:VCALENDAR
VERSION:2.0
PRODID:-//Republic, Washington - ECPv6.15.15//NONSGML v1.0//EN
CALSCALE:GREGORIAN
METHOD:PUBLISH
X-WR-CALNAME:Republic, Washington
X-ORIGINAL-URL:https://www.republicwa.org
X-WR-CALDESC:Events for Republic, Washington
REFRESH-INTERVAL;VALUE=DURATION:PT1H
X-Robots-Tag:noindex
X-PUBLISHED-TTL:PT1H
BEGIN:VTIMEZONE
TZID:UTC
BEGIN:STANDARD
TZOFFSETFROM:+0000
TZOFFSETTO:+0000
TZNAME:UTC
DTSTART:20140101T000000
END:STANDARD
END:VTIMEZONE
BEGIN:VEVENT
DTSTART;TZID=UTC:20151217T180000
DTEND;TZID=UTC:20151217T210000
DTSTAMP:20260424T172633
CREATED:20151217T174518Z
LAST-MODIFIED:20151217T174518Z
UID:540-1450375200-1450386000@www.republicwa.org
SUMMARY:Paints and Pints
DESCRIPTION:Monthly paint nights with local instructor\, Linda Thiele. Each month will be a new painting. No experience needed! $30 registration fee includes all supplies. There will be two classes held in December\, both of the same painting (pictured at left). \nClass limited to 20\, register at the brewery. \nA quick reminder: In order to ensure registration\, you must pre-pay for the class at the brewery. If you’ve replied that you plan to attend via Facebook\, but have not paid\, registration is not official. Stop by anytime and pre-pay to ensure your spot.
URL:https://www.republicwa.org/event/paints-and-pints-5/
LOCATION:Republic Brewing Company\, 26 N Clark Avenue\, Republic\, WA\, 99166\, United States
ATTACH;FMTTYPE=image/jpeg:https://www.republicwa.org/wp-content/uploads/2015/12/janpaints.jpg
END:VEVENT
BEGIN:VEVENT
DTSTART;TZID=UTC:20151217T190000
DTEND;TZID=UTC:20151217T220000
DTSTAMP:20260424T172633
CREATED:20151130T194545Z
LAST-MODIFIED:20151217T173154Z
UID:521-1450378800-1450389600@www.republicwa.org
SUMMARY:Live Music with Rabbit Wilde's Frontwoman\, Miranda Zickler
DESCRIPTION:Miranda Zickler is a singer/songwriter based in Seattle and most frequently seen fronting nationally touring Northwest folk pop group Rabbit Wilde. With influences span from Motown to Arcade Fire\, her powerful voice was honed by a background in musical theatre and nights spent busking on Brooklyn subway platforms. Her music\, accompanied by percussive acoustic guitar and five-string banjo\, sprawls out between personal originals\, stripped down versions of Rabbit Wilde songs\, and covers verying widely in genre. Rabbit Wilde’s albums are available on iTunes\, Spotify\, and www.rabbitwilde.com. \nPass-the-hat cover charge
URL:https://www.republicwa.org/event/live-music-with-rabbit-wilde/
LOCATION:Republic Brewing Company\, 26 N Clark Avenue\, Republic\, WA\, 99166\, United States
ATTACH;FMTTYPE=image/jpeg:https://www.republicwa.org/wp-content/uploads/2015/11/mirandazickler.jpg
END:VEVENT
END:VCALENDAR