BEGIN:VCALENDAR
VERSION:2.0
PRODID:-//Republic, Washington - ECPv6.15.15//NONSGML v1.0//EN
CALSCALE:GREGORIAN
METHOD:PUBLISH
X-ORIGINAL-URL:https://www.republicwa.org
X-WR-CALDESC:Events for Republic, Washington
REFRESH-INTERVAL;VALUE=DURATION:PT1H
X-Robots-Tag:noindex
X-PUBLISHED-TTL:PT1H
BEGIN:VTIMEZONE
TZID:UTC
BEGIN:STANDARD
TZOFFSETFROM:+0000
TZOFFSETTO:+0000
TZNAME:UTC
DTSTART:20140101T000000
END:STANDARD
END:VTIMEZONE
BEGIN:VEVENT
DTSTART;TZID=UTC:20151205T090000
DTEND;TZID=UTC:20151205T130000
DTSTAMP:20260424T172833
CREATED:20151130T193901Z
LAST-MODIFIED:20151130T193901Z
UID:516-1449306000-1449320400@www.republicwa.org
SUMMARY:Booster Club Holiday Bazaar
DESCRIPTION:Support the Booster Club at their annual Holiday Bazaar at the Republic Grade School on December 5th\, from 9 a.m. to 1 p.m.
URL:https://www.republicwa.org/event/booster-club-holiday-bazaar/
LOCATION:Republic Grade School\, 30306 WA-20\, Republic\, WA\, 99166\, United States
ATTACH;FMTTYPE=image/jpeg:https://www.republicwa.org/wp-content/uploads/2015/10/ooO0fP4.jpg
END:VEVENT
BEGIN:VEVENT
DTSTART;TZID=UTC:20151205T120000
DTEND;TZID=UTC:20151205T150000
DTSTAMP:20260424T172833
CREATED:20151119T185206Z
LAST-MODIFIED:20151119T185206Z
UID:507-1449316800-1449327600@www.republicwa.org
SUMMARY:Christmas Wreath Workshop
DESCRIPTION:Saturday\, December 5\, 2015 at noon \nCost is $30\, which includes cost of greens and materials. Learn how to make a gorgeous wreath to decorate outside your house or for your table. Instructor\, Christine Johnson\, will have evergreens\, holly\, and ornaments on hand. Please feel free to bring anything you may want to embellish the centerpieces with.
URL:https://www.republicwa.org/event/christmas-wreath-workshop/
LOCATION:Republic Brewing Company\, 26 N Clark Avenue\, Republic\, WA\, 99166\, United States
ATTACH;FMTTYPE=image/jpeg:https://www.republicwa.org/wp-content/uploads/2015/11/wreathwork.jpg
END:VEVENT
END:VCALENDAR