BEGIN:VCALENDAR
VERSION:2.0
PRODID:-//Republic, Washington - ECPv6.15.15//NONSGML v1.0//EN
CALSCALE:GREGORIAN
METHOD:PUBLISH
X-WR-CALNAME:Republic, Washington
X-ORIGINAL-URL:https://www.republicwa.org
X-WR-CALDESC:Events for Republic, Washington
REFRESH-INTERVAL;VALUE=DURATION:PT1H
X-Robots-Tag:noindex
X-PUBLISHED-TTL:PT1H
BEGIN:VTIMEZONE
TZID:UTC
BEGIN:STANDARD
TZOFFSETFROM:+0000
TZOFFSETTO:+0000
TZNAME:UTC
DTSTART:20140101T000000
END:STANDARD
END:VTIMEZONE
BEGIN:VEVENT
DTSTART;TZID=UTC:20151128T160000
DTEND;TZID=UTC:20151128T170000
DTSTAMP:20260424T055750
CREATED:20151119T190135Z
LAST-MODIFIED:20151119T190201Z
UID:512-1448726400-1448730000@www.republicwa.org
SUMMARY:Christmas Tree Lighting in the Park
DESCRIPTION:Join us for the Christmas Tree Lighting at Patterson Park in Republic!\nSaturday\, November 28\, 2015 at 4:00 p.m.
URL:https://www.republicwa.org/event/512/
LOCATION:Republic City Park\, 6th and N Kean St.\, Republic\, WA\, 99166\, United States
ATTACH;FMTTYPE=image/jpeg:https://www.republicwa.org/wp-content/uploads/2015/11/christmas-tree.jpg
END:VEVENT
BEGIN:VEVENT
DTSTART;TZID=UTC:20151128T180000
DTEND;TZID=UTC:20151128T210000
DTSTAMP:20260424T055750
CREATED:20151119T185031Z
LAST-MODIFIED:20151119T185031Z
UID:505-1448733600-1448744400@www.republicwa.org
SUMMARY:5th Annual "Thanksgivia" Trivia Showdown
DESCRIPTION:Saturday\, November 28 at 6 p.m. \nThat’s right\, it’s time to gather friends and loved ones together\, shake off the tryptophan and smash your trivial opponents in a pub-style trivia showdown. Teams can be up to 4 players. Registration at 5:30\, play begins at 6:00. No fee to play. Prizes for 1st\, 2nd and 3rd place.
URL:https://www.republicwa.org/event/5th-annual-thanksgivia-trivia-showdown/
LOCATION:Republic Brewing Company\, 26 N Clark Avenue\, Republic\, WA\, 99166\, United States
ATTACH;FMTTYPE=image/jpeg:https://www.republicwa.org/wp-content/uploads/2015/11/10702016_726514484069357_1938430702653005097_n.jpg
END:VEVENT
END:VCALENDAR