BEGIN:VCALENDAR
VERSION:2.0
PRODID:-//Republic, Washington - ECPv6.15.15//NONSGML v1.0//EN
CALSCALE:GREGORIAN
METHOD:PUBLISH
X-ORIGINAL-URL:https://www.republicwa.org
X-WR-CALDESC:Events for Republic, Washington
REFRESH-INTERVAL;VALUE=DURATION:PT1H
X-Robots-Tag:noindex
X-PUBLISHED-TTL:PT1H
BEGIN:VTIMEZONE
TZID:UTC
BEGIN:STANDARD
TZOFFSETFROM:+0000
TZOFFSETTO:+0000
TZNAME:UTC
DTSTART:20140101T000000
END:STANDARD
END:VTIMEZONE
BEGIN:VEVENT
DTSTART;TZID=UTC:20151023T140000
DTEND;TZID=UTC:20151023T220000
DTSTAMP:20260425T212252
CREATED:20151007T145912Z
LAST-MODIFIED:20151007T145912Z
UID:463-1445608800-1445637600@www.republicwa.org
SUMMARY:Oktoberfest at Republic Brewing Company
DESCRIPTION:Join your fellow Bavarian wannabees for beer\, authentic brats\, kraut and music. RBC will release true Bavarian style beers as well as giveaways\, games and prizes for everyone in costume both days. Freckle’s Gourmet BBQ will cater an authentic German meal including homemade sauerkraut\, a selection of sausages and German potato salad. One of our favorite weekends of the year! \nMake your reservations now by calling the brewery at (509) 775-2700 or email republicbrew@rcabletv.com.
URL:https://www.republicwa.org/event/oktoberfest-at-republic-brewing-company/
LOCATION:Republic Brewing Company\, 26 N Clark Avenue\, Republic\, WA\, 99166\, United States
ATTACH;FMTTYPE=image/jpeg:https://www.republicwa.org/wp-content/uploads/2015/10/octoberfest2012.jpg
END:VEVENT
END:VCALENDAR