BEGIN:VCALENDAR
VERSION:2.0
PRODID:-//Republic, Washington - ECPv6.15.15//NONSGML v1.0//EN
CALSCALE:GREGORIAN
METHOD:PUBLISH
X-WR-CALNAME:Republic, Washington
X-ORIGINAL-URL:https://www.republicwa.org
X-WR-CALDESC:Events for Republic, Washington
REFRESH-INTERVAL;VALUE=DURATION:PT1H
X-Robots-Tag:noindex
X-PUBLISHED-TTL:PT1H
BEGIN:VTIMEZONE
TZID:UTC
BEGIN:STANDARD
TZOFFSETFROM:+0000
TZOFFSETTO:+0000
TZNAME:UTC
DTSTART:20140101T000000
END:STANDARD
END:VTIMEZONE
BEGIN:VEVENT
DTSTART;TZID=UTC:20151016T190000
DTEND;TZID=UTC:20151016T220000
DTSTAMP:20260425T155747
CREATED:20151007T150255Z
LAST-MODIFIED:20151007T150255Z
UID:464-1445022000-1445032800@www.republicwa.org
SUMMARY:Live Music with the Pine Hearts
DESCRIPTION:Original Cascade Mountain Music for the 3rd Millennium at the Republic Brewing Company on October 16 at 7 p.m. \nPass-the-hat style cover charge. \nVisit the Pine Hearts’ website
URL:https://www.republicwa.org/event/live-music-with-the-pine-hearts/
LOCATION:Republic Brewing Company\, 26 N Clark Avenue\, Republic\, WA\, 99166\, United States
ATTACH;FMTTYPE=image/jpeg:https://www.republicwa.org/wp-content/uploads/2015/10/pinehearts.jpg
END:VEVENT
END:VCALENDAR